BEGIN:VCALENDAR
VERSION:2.0
PRODID:-//stbernardbridgewater.org//eCatholic//EN
X-WR-TIMEZONE:LocalTZ
BEGIN:VTIMEZONE
TZID:LocalTZ
X-LIC-LOCATION:LocalTZ
BEGIN:DAYLIGHT
TZOFFSETFROM:-0500
TZOFFSETTO:-0400
TZNAME:LocalTZ
DTSTART:19700308T020000
RRULE:FREQ=YEARLY;BYMONTH=3;BYDAY=2SU
END:DAYLIGHT
BEGIN:STANDARD
TZOFFSETFROM:-0400
TZOFFSETTO:-0500
TZNAME:LocalTZ
DTSTART:19701101T020000
RRULE:FREQ=YEARLY;BYMONTH=11;BYDAY=1SU
END:STANDARD
END:VTIMEZONE
BEGIN:VEVENT
UID:3060465@stbernardbridgewater.org
DTSTAMP:20260423T152100Z
DTSTART;VALUE=DATE:20260705
DTEND;VALUE=DATE:20260711
SUMMARY:Summer Mission Trip
DESCRIPTION:Join BOLD and Catholic HEART Workcamp for a week of service\, 
 friendship\, spiritual growth\, and memories that will last a lifetime! Af
 ter an amazing week last summer\, we're excited to return to Cumberland to
  do even more good work\, spread more joy\, and make another unforget tabl
 e impact. \nSunday\, July 5th - Friday\, July 10th. For all current 8th Gr
 aders & HS Teens 
END:VEVENT
BEGIN:VEVENT
UID:3060452@stbernardbridgewater.org
DTSTAMP:20260423T152100Z
DTSTART;VALUE=DATE:20260717
DTEND;VALUE=DATE:20260720
SUMMARY:Steubenville Youth Conference
DESCRIPTION:Join BOLD for three days filled with amazing speakers\, opport
 unities for worship\, Adoration and Confession\, and enjoy fellowship with
  thousands of other teens who share the same Catholic faith! For all curre
 nt 8th Graders & HS Teens 
END:VEVENT
END:VCALENDAR
